BEGIN:VCALENDAR
PRODID:-//Events at Ball State University//NONSGML ical.net 4.0//EN
VERSION:2.0
BEGIN:VEVENT
DESCRIPTION:Ball State University Event\n\nSign up to learn paper flower-m
 aking techniques with local artist Jeanne Zeigler at Art in Bloom.\n\nCon
 tact: Rachel Buckmaster - rabuckmaster@bsu.edu - 7652855270
DTEND:20260516T204500Z
DTSTAMP:20260423T200846Z
DTSTART:20260516T171500Z
IMAGE:URI\;DISPLAY=BADGE\,THUMBNAIL\,GRAPHIC\;FMTTYPE=image/png:https://ww
 w.bsu.edu/-/media/www/departmentalcontent/artmuseum/images/poppysmaller.p
 ng?sc_lang=en
LOCATION:David Owsley Museum of Art
SEQUENCE:0
SUMMARY:Paper Flower Workshops at Art in Bloom
UID:48985f3e-b23e-4231-b52d-15ce00f917ef
URL:https://www.bsu.edu/calendar/events/administrative/museum-of-art/2026/
 05/16/paper-flower-workshops-at-art-in-bloom
END:VEVENT
END:VCALENDAR
