BEGIN:VCALENDAR
PRODID:-//Events at Ball State University//NONSGML ical.net 4.0//EN
VERSION:2.0
BEGIN:VEVENT
DESCRIPTION:Ball State University Event\n\nBSU First Lady Jennifer Mearns 
 will share stories about her upbringing\, adventures while working in the
  sports marketing business\, including traveling the world with the men’s
  professional tennis tour\, raising five children while starting her own 
 business\, and supporting her husband’s career with the Department of Jus
 tice and higher education.\n\nContact: Jim Lee - jimlee@email.com
DTEND:20260421T190000Z
DTSTAMP:20260419T172518Z
DTSTART:20260421T173000Z
LOCATION:Alumni Center
SEQUENCE:0
SUMMARY:Lifelong Learners: Sixth Child to First Lady
UID:fbbe151a-545a-42a0-aea0-30bdfaef80f1
URL:https://www.bsu.edu/calendar/events/administrative/government-relation
 s-community-engagement/all/2026/04/21/sixthchild
END:VEVENT
BEGIN:VEVENT
DESCRIPTION:Ball State University Event\n\nRichard Harris will lead a thou
 ght-provoking exploration of a wide range of inventions\, including many 
 we often overlook—such as rope\, without which worldwide exploration woul
 d not have been possible. Audience members are encouraged to bring their 
 own nominations for impactful inventions and ideas.\n\nContact: Jim Lee -
  jimlee@email.com
DTEND:20260428T190000Z
DTSTAMP:20260419T172518Z
DTSTART:20260428T173000Z
LOCATION:Alumni Center
SEQUENCE:0
SUMMARY:Lifelong Learners: Inventions\, Ideas and Discoveries That Impacte
 d the World
UID:9bc01812-1141-4d89-819a-cd06d7256ce5
URL:https://www.bsu.edu/calendar/events/administrative/government-relation
 s-community-engagement/all/2026/04/28/inventionsideasdiscoveries
END:VEVENT
END:VCALENDAR
