BEGIN:VCALENDAR
PRODID:-//Events at Ball State University//NONSGML ical.net 4.0//EN
VERSION:2.0
BEGIN:VEVENT
DESCRIPTION:Ball State University Event\n\nJoin Ball State University’s Es
 topinal College of Architecture and Planning for a special alumni recepti
 on during AIA26 in San Diego.\n\nContact: Desiree Soptelean - desiree.sop
 telean@bsu.edu
DTEND:20260611T233000Z
DTSTAMP:20260425T181709Z
DTSTART:20260611T213000Z
LOCATION:Off-Campus Venue
SEQUENCE:0
SUMMARY:ECAP Alumni Reception at AIA26 San Diego
UID:67a79cd5-8d7b-47f2-826f-b3fef7af4e25
URL:https://www.bsu.edu/calendar/events/administrative/alumni-association/
 2026/6/11/ecap-reception
END:VEVENT
END:VCALENDAR
