BEGIN:VCALENDAR
PRODID:-//Events at Ball State University//NONSGML ical.net 4.0//EN
VERSION:2.0
BEGIN:VEVENT
DESCRIPTION:Ball State University Event\n\nJoin us for these special event
 s with Josh Kaufman\, winner of NBC's The Voice Season 6! All events will
  take place in Soundhouse A in the MMP Studios on the 2nd floor of the Mu
 sic Instruction Building. This event is free and open to the public.
DTEND:20260421T200000Z
DTSTAMP:20260421T003948Z
DTSTART:20260421T150000Z
LOCATION:Music Instruction Building
SEQUENCE:0
SUMMARY:Josh Kaufman Clinic
UID:2bba9f17-9a98-45c7-8fe5-a8ed6060e54c
URL:https://www.bsu.edu/calendar/events/academics/school-of-music/2026/04/
 21/josh-kaufman-clinic
END:VEVENT
END:VCALENDAR
