BEGIN:VCALENDAR
PRODID:-//Events at Ball State University//NONSGML ical.net 4.0//EN
VERSION:2.0
BEGIN:VEVENT
DESCRIPTION:Ball State University Event\n\nThe Clay Guild is hosting a sal
 e! Stop by the Atrium to shop a variety of objects from functional ware l
 ike mugs and bowls to sculptural work!
DTEND:20260423T220000Z
DTSTAMP:20260423T001129Z
DTSTART:20260423T140000Z
IMAGE:URI\;DISPLAY=BADGE\,THUMBNAIL\,GRAPHIC\;FMTTYPE=image/jpeg:https://w
 ww.bsu.edu/-/media/www/images/events/academics/school-of-art/17_umc048_20
 18.jpg?sc_lang=en
LOCATION:The Atrium
SEQUENCE:0
SUMMARY:Clay Guild Sale
UID:53f01d9f-e244-4606-a671-48382585a10c
URL:https://www.bsu.edu/calendar/events/academics/school-of-art/2026/04/23
 /clay-guild-sale
END:VEVENT
END:VCALENDAR
