BEGIN:VCALENDAR
PRODID:-//Events at Ball State University//NONSGML ical.net 4.0//EN
VERSION:2.0
BEGIN:VEVENT
DESCRIPTION:Ball State University Event\n\nReady to send your manuscript\,
  poems\, or stories into the world but not sure where to start? In this t
 wo-hour workshop\, we’ll explore publishing options—from big houses and s
 mall presses to journals and self-publishing—answer your questions\, and 
 give you practical tools and inspiration to get your work published. Taug
 ht by Lylanne Musselman\, award-winning poet\, playwright\, and visual ar
 tist.\n\nContact: Diane Watters - ebball@bsu.edu - 765-285-8975
DTEND:20260421T203000Z
DTSTAMP:20260419T172456Z
DTSTART:20260421T183000Z
LOCATION:E.B. and Bertha C. Ball Center
SEQUENCE:0
SUMMARY:From Manuscript to Market: Navigating the Path to Publication
UID:ad55d01c-2c40-4508-a943-be21f73348e4
URL:https://www.bsu.edu/calendar/events/administrative/community-engagemen
 t/eb-ball-center/2026/04/21/manuscript
END:VEVENT
BEGIN:VEVENT
DESCRIPTION:Ball State University Event\n\nLooking for a creative\, hands-
 on hobby with a modern twist? Try needlepointing! This isn’t your grandmo
 ther’s needlepoint. Today’s version is vibrant\, customizable\, and full 
 of personality.\n\nIn each class\, you'll design a one-of-a-kind piece by
  choosing your own thread colors and selecting from a variety of stitches
  using a helpful stitch guide. Every session features a new project\, so 
 there's always something fresh and inspiring to create.\n\n\nContact: Dia
 ne Watters - ebball@bsu.edu - 765-285-8975
DTEND:20260424T170000Z
DTSTAMP:20260419T172456Z
DTSTART:20260424T140000Z
LOCATION:E.B. and Bertha C. Ball Center
SEQUENCE:0
SUMMARY:Beginning Needlepoint
UID:9e35bcbd-defb-4c5c-bfd5-54688b0efeb3
URL:https://www.bsu.edu/calendar/events/administrative/community-engagemen
 t/eb-ball-center/2026/04/24/beginningneedlepoint
END:VEVENT
BEGIN:VEVENT
DESCRIPTION:Ball State University Event\n\nKaren Good\, President of the Y
 orktown Museum and Genealogy Center\, will share information about intere
 sting epitaphs found in Beech Grove Cemetery\, as well as those on the gr
 aves of famous celebrities. Epitaphs date back to ancient Egypt\, where i
 nscriptions on sarcophagi and coffins recorded the identity and achieveme
 nts of the deceased\, often carrying religious significance to ensure saf
 e passage to the afterlife.\n\nContact: Diane Watters - ebball@bsu.edu - 
 765-285-8975
DTEND:20260429T190000Z
DTSTAMP:20260419T172456Z
DTSTART:20260429T180000Z
LOCATION:Off-Campus Venue
SEQUENCE:0
SUMMARY:Final Punchlines
UID:302576a7-8a6c-4946-b2fe-a1635ef5762d
URL:https://www.bsu.edu/calendar/events/administrative/community-engagemen
 t/eb-ball-center/2026/04/29/finalpunchlines
END:VEVENT
BEGIN:VEVENT
DESCRIPTION:Ball State University Event\n\nThis class is for anyone lookin
 g to preserve their memories—whether for personal reflection\, to share w
 ith loved ones\, or to publish. It’s best suited for beginning and interm
 ediate writers and is designed to be repeatable\, with new prompts and in
 sights each time.\n\nContact: Diane Watters - ebball@bsu.edu - 765-285-89
 75
DTEND:20260512T200000Z
DTSTAMP:20260419T172456Z
DTSTART:20260512T183000Z
LOCATION:E.B. and Bertha C. Ball Center
SEQUENCE:0
SUMMARY:Writing Your Life: Collect a Series of Vignettes for Posterity
UID:edd1cc8e-1de2-4e0c-8300-7254fc6080ff
URL:https://www.bsu.edu/calendar/events/administrative/community-engagemen
 t/eb-ball-center/2026/05/12/writingyourlife
END:VEVENT
BEGIN:VEVENT
DESCRIPTION:Ball State University Event\n\nThis class is for anyone lookin
 g to preserve their memories—whether for personal reflection\, to share w
 ith loved ones\, or to publish. It’s best suited for beginning and interm
 ediate writers and is designed to be repeatable\, with new prompts and in
 sights each time.\n\nContact: Diane Watters - ebball@bsu.edu - 765-285-89
 75
DTEND:20260519T200000Z
DTSTAMP:20260419T172456Z
DTSTART:20260519T183000Z
LOCATION:E.B. and Bertha C. Ball Center
SEQUENCE:0
SUMMARY:Writing Your Life: Collect a Series of Vignettes for Posterity
UID:48ecadc9-70c0-4242-bd12-e3166d672bdd
URL:https://www.bsu.edu/calendar/events/administrative/community-engagemen
 t/eb-ball-center/2026/05/19/writingyourlife2
END:VEVENT
BEGIN:VEVENT
DESCRIPTION:Ball State University Event\n\nThis class is for anyone lookin
 g to preserve their memories—whether for personal reflection\, to share w
 ith loved ones\, or to publish. It’s best suited for beginning and interm
 ediate writers and is designed to be repeatable\, with new prompts and in
 sights each time.\n\nContact: Diane Watters - ebball@bsu.edu - 765-285-89
 75
DTEND:20260526T200000Z
DTSTAMP:20260419T172456Z
DTSTART:20260526T183000Z
LOCATION:E.B. and Bertha C. Ball Center
SEQUENCE:0
SUMMARY:Writing Your Life: Collect a Series of Vignettes for Posterity
UID:acfe62f7-ac44-4298-aba9-b5d6ebd41b14
URL:https://www.bsu.edu/calendar/events/administrative/community-engagemen
 t/eb-ball-center/2026/05/26/writingyourlife3
END:VEVENT
BEGIN:VEVENT
DESCRIPTION:Ball State University Event\n\nJoin Indiana resident and autho
 r\, Kevin Yaney\, as he leads a tour of some of the graves of Civil War v
 eterans who were laid to rest at Beech Grove Cemetery. This casual histor
 y tour will focus on residents of Delaware County who took part in the wa
 r\, as well as Indiana’s involvement in the war. \n\nContact: Diane Watte
 rs - ebball@bsu.edu - 765-285-8975
DTEND:20260530T160000Z
DTSTAMP:20260419T172456Z
DTSTART:20260530T140000Z
LOCATION:Off-Campus Venue
SEQUENCE:0
SUMMARY:Civil War Walking Tour
UID:95be1f9d-5d9f-4546-b7d4-5aea7b5b3f21
URL:https://www.bsu.edu/calendar/events/administrative/community-engagemen
 t/eb-ball-center/2026/05/30/civilwarwalkingtour
END:VEVENT
BEGIN:VEVENT
DESCRIPTION:Ball State University Event\n\nLooking for a creative\, hands-
 on hobby with a modern twist? Try needlepointing! This isn’t your grandmo
 ther’s needlepoint. Today’s version is vibrant\, customizable\, and full 
 of personality.\n\nIn each class\, you'll design a one-of-a-kind piece by
  choosing your own thread colors and selecting from a variety of stitches
  using a helpful stitch guide. Every session features a new project\, so 
 there's always something fresh and inspiring to create.\n\nContact: Diane
  Watters - ebball@bsu.edu - 765-285-8975
DTEND:20260605T170000Z
DTSTAMP:20260419T172456Z
DTSTART:20260605T140000Z
LOCATION:E.B. and Bertha C. Ball Center
SEQUENCE:0
SUMMARY:Beginning Needlepoint
UID:43348dbe-a71f-43ac-a64d-3a4d210c7d5c
URL:https://www.bsu.edu/calendar/events/administrative/community-engagemen
 t/eb-ball-center/2026/06/06/beginningneedlepoint
END:VEVENT
BEGIN:VEVENT
DESCRIPTION:Ball State University Event\n\nJoin us for the second WE FLY F
 EST! This FREE event will include entertainment\, booths\, games\, and ac
 tivities for the whole family at the Brown Family Amphitheater!\n\nContac
 t: Michelle Kinsey - mkinsey@bsu.edu - 765-285-2773
DTEND:20260606T230000Z
DTSTAMP:20260419T172456Z
DTSTART:20260606T200000Z
IMAGE:URI\;DISPLAY=BADGE\,THUMBNAIL\,GRAPHIC\;FMTTYPE=image/jpeg:https://w
 ww.bsu.edu/-/media/www/departmentalcontent/communityengagement/photos/490
 504725_1175332961056328_6954357731627375017_n.jpg?sc_lang=en
LOCATION:Brown Family Amphitheater
SEQUENCE:0
SUMMARY:We Fly Fest
UID:04a55d06-aa44-4529-9353-68bf87047923
URL:https://www.bsu.edu/calendar/events/administrative/community-engagemen
 t/oce/2026/06/06/2026weflyfest
END:VEVENT
BEGIN:VEVENT
DESCRIPTION:Ball State University Event\n\nEnjoy an inspiring evening feat
 uring the work of Lylanne Musselman\, writing instructor at the center\, 
 and a selection of readings by a few of her students. Following the progr
 am\, we’ll host a reception with a delicious array of hors d’oeuvres.\n\n
 Contact: Diane Watters - ebball@bsu.edu - 765-285-8975
DTEND:20260617T233000Z
DTSTAMP:20260419T172457Z
DTSTART:20260617T220000Z
LOCATION:E.B. and Bertha C. Ball Center
SEQUENCE:0
SUMMARY:Taste of Poetry
UID:7f33ca12-8d4e-4780-85a6-889bb92eab55
URL:https://www.bsu.edu/calendar/events/administrative/community-engagemen
 t/eb-ball-center/2026/06/17/tasteofpoetry
END:VEVENT
END:VCALENDAR
