BEGIN:VCALENDAR
PRODID:-//Events at Ball State University//NONSGML ical.net 4.0//EN
VERSION:2.0
BEGIN:VEVENT
DESCRIPTION:Ball State University Event\n\nCelebrate 50 years of Whitinger
  excellence during Homecoming at Ball State University. \n\nContact: Kate
  Webber - kwebber@bsu.edu
DTEND;VALUE=DATE:20261025
DTSTAMP:20260425T181710Z
DTSTART;VALUE=DATE:20261024
SEQUENCE:0
SUMMARY:50th Whitinger Scholars Reunion
UID:6b8bc7c7-2b71-49f1-8e88-77eab2c4f6be
URL:https://www.bsu.edu/calendar/events/administrative/alumni-association/
 2026/10/24/50th-whitinger-scholars-reunion
END:VEVENT
END:VCALENDAR
